BEGIN:VCALENDAR
VERSION:2.0
PRODID:-//St. Michael&#039;s Catholic Church - ECPv6.15.14//NONSGML v1.0//EN
CALSCALE:GREGORIAN
METHOD:PUBLISH
X-WR-CALNAME:St. Michael&#039;s Catholic Church
X-ORIGINAL-URL:https://smchapmanparish.org
X-WR-CALDESC:Events for St. Michael&#039;s Catholic Church
REFRESH-INTERVAL;VALUE=DURATION:PT1H
X-Robots-Tag:noindex
X-PUBLISHED-TTL:PT1H
BEGIN:VTIMEZONE
TZID:America/Chicago
BEGIN:DAYLIGHT
TZOFFSETFROM:-0600
TZOFFSETTO:-0500
TZNAME:CDT
DTSTART:20220313T080000
END:DAYLIGHT
BEGIN:STANDARD
TZOFFSETFROM:-0500
TZOFFSETTO:-0600
TZNAME:CST
DTSTART:20221106T070000
END:STANDARD
BEGIN:DAYLIGHT
TZOFFSETFROM:-0600
TZOFFSETTO:-0500
TZNAME:CDT
DTSTART:20230312T080000
END:DAYLIGHT
BEGIN:STANDARD
TZOFFSETFROM:-0500
TZOFFSETTO:-0600
TZNAME:CST
DTSTART:20231105T070000
END:STANDARD
BEGIN:DAYLIGHT
TZOFFSETFROM:-0600
TZOFFSETTO:-0500
TZNAME:CDT
DTSTART:20240310T080000
END:DAYLIGHT
BEGIN:STANDARD
TZOFFSETFROM:-0500
TZOFFSETTO:-0600
TZNAME:CST
DTSTART:20241103T070000
END:STANDARD
END:VTIMEZONE
BEGIN:VEVENT
DTSTART;TZID=America/Chicago:20231217T190000
DTEND;TZID=America/Chicago:20231217T200000
DTSTAMP:20260420T230048
CREATED:20231128T212124Z
LAST-MODIFIED:20231128T212124Z
UID:23426-1702839600-1702843200@smchapmanparish.org
SUMMARY:Community Christmas Concert
DESCRIPTION:
URL:https://smchapmanparish.org/event/community-christmas-concert/
CATEGORIES:Church Event
END:VEVENT
BEGIN:VEVENT
DTSTART;TZID=America/Chicago:20231217T180000
DTEND;TZID=America/Chicago:20231217T190000
DTSTAMP:20260420T230048
CREATED:20231128T212124Z
LAST-MODIFIED:20231128T212124Z
UID:23425-1702836000-1702839600@smchapmanparish.org
SUMMARY:Live Nativity
DESCRIPTION:
URL:https://smchapmanparish.org/event/live-nativity/
CATEGORIES:Church Event
END:VEVENT
BEGIN:VEVENT
DTSTART;TZID=America/Chicago:20231217T100000
DTEND;TZID=America/Chicago:20231217T103000
DTSTAMP:20260420T230048
CREATED:20231128T212124Z
LAST-MODIFIED:20231128T212124Z
UID:23424-1702807200-1702809000@smchapmanparish.org
SUMMARY:Christmas Pageant
DESCRIPTION:
URL:https://smchapmanparish.org/event/christmas-pageant/
CATEGORIES:Church Event
END:VEVENT
BEGIN:VEVENT
DTSTART;TZID=America/Chicago:20231217T090000
DTEND;TZID=America/Chicago:20231217T100000
DTSTAMP:20260420T230048
CREATED:20231027T031359Z
LAST-MODIFIED:20231128T212124Z
UID:22900-1702803600-1702807200@smchapmanparish.org
SUMMARY:Sunday Mass
DESCRIPTION:
URL:https://smchapmanparish.org/event/sunday-mass-6/
CATEGORIES:Sunday Mass
END:VEVENT
BEGIN:VEVENT
DTSTART;TZID=America/Chicago:20231213T193000
DTEND;TZID=America/Chicago:20231213T203000
DTSTAMP:20260420T230048
CREATED:20231128T212124Z
LAST-MODIFIED:20231128T212124Z
UID:23423-1702495800-1702499400@smchapmanparish.org
SUMMARY:Knights of Columbus Meeting
DESCRIPTION:
URL:https://smchapmanparish.org/event/knights-of-columbus-meeting/
CATEGORIES:Knights of Columbus
END:VEVENT
BEGIN:VEVENT
DTSTART;TZID=America/Chicago:20231213T183000
DTEND;TZID=America/Chicago:20231213T193000
DTSTAMP:20260420T230048
CREATED:20231128T212124Z
LAST-MODIFIED:20231128T212124Z
UID:23422-1702492200-1702495800@smchapmanparish.org
SUMMARY:Knights of Columbus Christmas Banquet
DESCRIPTION:
URL:https://smchapmanparish.org/event/knights-of-columbus-christmas-banquet/
CATEGORIES:Knights of Columbus
END:VEVENT
BEGIN:VEVENT
DTSTART;TZID=America/Chicago:20231210T090000
DTEND;TZID=America/Chicago:20231210T100000
DTSTAMP:20260420T230048
CREATED:20231027T031358Z
LAST-MODIFIED:20231128T212124Z
UID:22899-1702198800-1702202400@smchapmanparish.org
SUMMARY:Sunday Mass
DESCRIPTION:
URL:https://smchapmanparish.org/event/sunday-mass-5/
CATEGORIES:Sunday Mass
END:VEVENT
BEGIN:VEVENT
DTSTART;TZID=America/Chicago:20231208T183000
DTEND;TZID=America/Chicago:20231208T193000
DTSTAMP:20260420T230048
CREATED:20231128T212123Z
LAST-MODIFIED:20231128T212123Z
UID:23421-1702060200-1702063800@smchapmanparish.org
SUMMARY:Immaculate Conception Holy Day Mass
DESCRIPTION:
URL:https://smchapmanparish.org/event/immaculate-conception-holy-day-mass/
CATEGORIES:Holy Day
END:VEVENT
BEGIN:VEVENT
DTSTART;TZID=America/Chicago:20231203T090000
DTEND;TZID=America/Chicago:20231203T100000
DTSTAMP:20260420T230048
CREATED:20231027T031358Z
LAST-MODIFIED:20231128T212123Z
UID:22898-1701594000-1701597600@smchapmanparish.org
SUMMARY:Sunday Mass
DESCRIPTION:
URL:https://smchapmanparish.org/event/sunday-mass-4/
CATEGORIES:Sunday Mass
END:VEVENT
BEGIN:VEVENT
DTSTART;TZID=America/Chicago:20231126T090000
DTEND;TZID=America/Chicago:20231126T100000
DTSTAMP:20260420T230048
CREATED:20231027T031358Z
LAST-MODIFIED:20231128T212123Z
UID:22897-1700989200-1700992800@smchapmanparish.org
SUMMARY:Sunday Mass
DESCRIPTION:
URL:https://smchapmanparish.org/event/sunday-mass-3/
CATEGORIES:Sunday Mass
END:VEVENT
BEGIN:VEVENT
DTSTART;TZID=America/Chicago:20231119T090000
DTEND;TZID=America/Chicago:20231119T100000
DTSTAMP:20260420T230048
CREATED:20231027T031358Z
LAST-MODIFIED:20231128T212123Z
UID:22896-1700384400-1700388000@smchapmanparish.org
SUMMARY:Sunday Mass
DESCRIPTION:
URL:https://smchapmanparish.org/event/sunday-mass-2/
CATEGORIES:Sunday Mass
END:VEVENT
BEGIN:VEVENT
DTSTART;TZID=America/Chicago:20231112T090000
DTEND;TZID=America/Chicago:20231112T100000
DTSTAMP:20260420T230048
CREATED:20231027T031358Z
LAST-MODIFIED:20231128T212123Z
UID:22895-1699779600-1699783200@smchapmanparish.org
SUMMARY:Sunday Mass
DESCRIPTION:
URL:https://smchapmanparish.org/event/sunday-mass/
CATEGORIES:Sunday Mass
END:VEVENT
BEGIN:VEVENT
DTSTART;TZID=America/Chicago:20231108T193000
DTEND;TZID=America/Chicago:20231108T203000
DTSTAMP:20260420T230048
CREATED:20231130T035347Z
LAST-MODIFIED:20231130T035347Z
UID:23671-1699471800-1699475400@smchapmanparish.org
SUMMARY:Knights of Columbus Meeting
DESCRIPTION:
URL:https://smchapmanparish.org/event/knights-of-columbus-meeting-3/
CATEGORIES:Knights of Columbus
END:VEVENT
END:VCALENDAR